BEGIN:VCALENDAR
VERSION:2.0
PRODID:-//Plone.org//NONSGML plone.app.event//EN
X-WR-TIMEZONE:US/Central
BEGIN:VEVENT
SUMMARY:Big Kids Storytime - ages 6 to 11
DTSTART;TZID=US/Central:20241120T103000
DTEND;TZID=US/Central:20241120T113000
DTSTAMP:20260424T173340Z
UID:7d4973fa1e3e45e0b1ae90662b990d98@saas_stack_varnish:6080
CREATED:20240927T002910Z
DESCRIPTION:Sharing & exploring stories through hands-on activities with C
 ooking\, History\, and STEAM (Science\, Technology\, Engineering\, Arts\, 
 and Math)
LAST-MODIFIED:20240927T002921Z
URL:https://mcgregor.ploud.net/news-events/lib-cal/big-kids-storytime-ages
 -6-to-11-1
END:VEVENT
BEGIN:VTIMEZONE
TZID:US/Central
X-LIC-LOCATION:US/Central
BEGIN:STANDARD
DTSTART:20241103T010000
TZNAME:CST
TZOFFSETFROM:-0500
TZOFFSETTO:-0600
END:STANDARD
END:VTIMEZONE
END:VCALENDAR
