BEGIN:VCALENDAR
VERSION:2.0
PRODID:-//Plone.org//NONSGML plone.app.event//EN
X-WR-TIMEZONE:US/Central
BEGIN:VEVENT
SUMMARY:Closed for Christmas
DTSTART;VALUE=DATE:20231225
DTEND;VALUE=DATE:20231227
DTSTAMP:20260424T174333Z
UID:4397199d720e47df99720f4a8fa9e02c@saas_stack_varnish:6080
CREATED:20230902T003405Z
LAST-MODIFIED:20230902T003410Z
URL:https://mcgregor.ploud.net/news-events/lib-cal/closed-for-christmas
END:VEVENT
END:VCALENDAR
