BEGIN:VCALENDAR
VERSION:2.0
PRODID:-//Plone.org//NONSGML plone.app.event//EN
X-WR-TIMEZONE:US/Central
BEGIN:VEVENT
SUMMARY:Closed for President's Day
DTSTART;VALUE=DATE:20250217
DTEND;VALUE=DATE:20250218
DTSTAMP:20260424T174149Z
UID:4bcfb74c237d4f119df8b2106c097de1@saas_stack_varnish:6080
CREATED:20250106T020743Z
LAST-MODIFIED:20250106T020800Z
LOCATION:We will be closed Monday\, Feb. 17 for President's Day. We will r
 eopen Tuesday Feb. 18 from 2pm - 7pm
URL:https://mcgregor.ploud.net/news-events/lib-cal/closed-for-presidents-d
 ay-1
END:VEVENT
END:VCALENDAR
