BEGIN:VCALENDAR
VERSION:2.0
PRODID:-//Plone.org//NONSGML plone.app.event//EN
X-WR-TIMEZONE:US/Central
BEGIN:VEVENT
SUMMARY:Storywalk - Family Reading Night
DTSTART;TZID=US/Central:20250311T160000
DTEND;TZID=US/Central:20250311T170000
DTSTAMP:20260424T174333Z
UID:ed406ee5e9e34cca98380e961e1168f9@saas_stack_varnish:6080
CREATED:20250225T153950Z
DESCRIPTION:StoryWalk along Main Street - We'll meet at the Library and wa
 lk to participating businesses whose storefront windows feature a page fro
 m the children's book\, If You Plant a Seed by Kadir Nelson. We'll enjoy r
 efreshments and crafts afterwards at the library!
LAST-MODIFIED:20250225T154227Z
URL:https://mcgregor.ploud.net/news-events/lib-cal/storywalk-family-readin
 g-night-2
END:VEVENT
BEGIN:VTIMEZONE
TZID:US/Central
X-LIC-LOCATION:US/Central
BEGIN:DAYLIGHT
DTSTART:20250309T030000
TZNAME:CDT
TZOFFSETFROM:-0600
TZOFFSETTO:-0500
END:DAYLIGHT
END:VTIMEZONE
END:VCALENDAR
